BEGIN:VCALENDAR
VERSION:2.0
PRODID:-//Your Town Monthly - ECPv5.4.0//NONSGML v1.0//EN
CALSCALE:GREGORIAN
METHOD:PUBLISH
X-WR-CALNAME:Your Town Monthly
X-ORIGINAL-URL:https://www.yourtownmonthly.com
X-WR-CALDESC:Events for Your Town Monthly
BEGIN:VTIMEZONE
TZID:America/Los_Angeles
BEGIN:DAYLIGHT
TZOFFSETFROM:-0800
TZOFFSETTO:-0700
TZNAME:PDT
DTSTART:20260308T100000
END:DAYLIGHT
BEGIN:STANDARD
TZOFFSETFROM:-0700
TZOFFSETTO:-0800
TZNAME:PST
DTSTART:20261101T090000
END:STANDARD
END:VTIMEZONE
BEGIN:VEVENT
DTSTART;VALUE=DATE:20260322
DTEND;VALUE=DATE:20260628
DTSTAMP:20260425T043801
CREATED:20260323T233656Z
LAST-MODIFIED:20260323T233656Z
UID:119949-1774137600-1782604799@www.yourtownmonthly.com
SUMMARY:Center Stage at Vacaville Museum
DESCRIPTION:Explore the vibrant art of Solano County with the Vacaville Museum’s current exhibition\, Center Stage\, now through June 27\, 2026. Photo © VacavilleMuseum.org. \nVACAVILLE — Journey through Solano County’s artistic history\, examining how performance spaces\, cultural influences\, and community traditions have shaped the way people of the region express themselves. Explore the psychology of performance venues and how spaces influence creativity\, how shifting cultural landscapes have inspired new forms of expression\, and the enduring human need for storytelling\, movement\, rhythm\, and shared experience. \nCenter Stage at Vacaville Museum\nNow Through June 27\, 2026\nVacaville Museum\n213 Buck Ave\, Vacaville\nAdmission is FREE \nFor more information\, visit VacavilleMuseum.org.
URL:https://www.yourtownmonthly.com/event/center-stage-at-vacaville-museum/
LOCATION:Vacaville Museum\, 213 Buck Avenue\, Vacaville\, CA\, 95688\, United States
CATEGORIES:Arts,Business,Educational,Family Friendly,Seniors,Teens
ATTACH;FMTTYPE=image/png:https://www.yourtownmonthly.com/wp-content/uploads/2026/03/center-stage-vacaville-museum.png
GEO:38.3563162;-121.9937319
X-APPLE-STRUCTURED-LOCATION;VALUE=URI;X-ADDRESS=Vacaville Museum 213 Buck Avenue Vacaville CA 95688 United States;X-APPLE-RADIUS=500;X-TITLE=213 Buck Avenue:geo:-121.9937319,38.3563162
END:VEVENT
BEGIN:VEVENT
DTSTART;TZID=America/Los_Angeles:20260327T180000
DTEND;TZID=America/Los_Angeles:20260327T180000
DTSTAMP:20260425T043801
CREATED:20250822T171511Z
LAST-MODIFIED:20250822T171511Z
UID:118014-1774634400-1774634400@www.yourtownmonthly.com
SUMMARY:Friday Night Music in Downtown Winters
DESCRIPTION:There’s Friday Night Music in Downtown Winters every Friday at 6pm along Main Street in Winters. Photo: DiscoverWinters.com \nWINTERS – Every Friday\, make your way to Main Street in Downtown Winters to vibe to live\, local music performed by a different band each week! There will be something for music lovers of all genres to enjoy\, so be sure to check the event website for the coming weeks’ featured musical groups. \n\n\n\n\nFriday Night Music in Downtown Winters\nEvery Friday\n6pm\nAdmission is FREE\nMain St\, Winters \nFor more information\, visit DiscoverWinters.com.
URL:https://www.yourtownmonthly.com/event/music-on-main-in-downtown-winters/2026-03-27/
LOCATION:Downtown Winters\, Railroad & Main Streets\, Winters\, CA\, 95694\, United States
CATEGORIES:Arts,Benefit,Business,Comedy,Dance,Educational,Family Friendly,Live Music & Concerts,Outdoors,Seniors,Teens,Wine & Brew
ATTACH;FMTTYPE=image/png:https://www.yourtownmonthly.com/wp-content/uploads/2024/06/music-main-winters.png
GEO:38.521864;-121.968842
X-APPLE-STRUCTURED-LOCATION;VALUE=URI;X-ADDRESS=Downtown Winters Railroad & Main Streets Winters CA 95694 United States;X-APPLE-RADIUS=500;X-TITLE=Railroad & Main Streets:geo:-121.968842,38.521864
END:VEVENT
BEGIN:VEVENT
DTSTART;TZID=America/Los_Angeles:20260327T190000
DTEND;TZID=America/Los_Angeles:20260327T190000
DTSTAMP:20260425T043801
CREATED:20260224T203833Z
LAST-MODIFIED:20260224T203833Z
UID:119639-1774638000-1774638000@www.yourtownmonthly.com
SUMMARY:The 39 Steps\, Abridged at the Village Theatre
DESCRIPTION:Sixth Line Studios and the Town of Danville present “The 39 Steps\, Abridged” at the Village Theatre in Danville\, Fridays – Sundays\, March 6 – 29\, 2026. Photo: Sixth Line Studios. \nDANVILLE — Step into Alfred Hitchcock’s world of intrigue with a mischievous comedic spin. In The 39 Steps\, Abridged\, follow Richard Hannay\, an ordinary man whose life flips upside down when he’s framed for murder and tangled in an international conspiracy. You’ll encounter romance\, danger\, and a gallery of eccentric characters portrayed by a small cast\, each playing several roles. Fast-paced and inventive\, the show delivers sharp wit\, physical comedy\, and theatrical surprises at every turn. \nThe 39 Steps\, Abridged at the Village Theatre\nFridays – Sundays\, March 6 – 29\, 2026\nFridays: 7pm • Saturdays: 2 & 7pm • Sundays: 2pm\nVillage Theatre\, Danville\nTickets: $32 – 37 \nFor tickets and more information\, visit SixthLineStudios.org.
URL:https://www.yourtownmonthly.com/event/the-39-steps-abridged-at-the-village-theatre/2026-03-27/
LOCATION:Village Theatre\, 233 Front Street\, Danville\, CA\, 94526\, United States
CATEGORIES:Arts,Business,Comedy,Dance,Family Friendly,Live Music & Concerts,Seniors,Teens,Theater
ATTACH;FMTTYPE=image/png:https://www.yourtownmonthly.com/wp-content/uploads/2020/05/39-steps-0326.png
GEO:37.8215443;-121.9971442
X-APPLE-STRUCTURED-LOCATION;VALUE=URI;X-ADDRESS=Village Theatre 233 Front Street Danville CA 94526 United States;X-APPLE-RADIUS=500;X-TITLE=233 Front Street:geo:-121.9971442,37.8215443
END:VEVENT
END:VCALENDAR