BEGIN:VCALENDAR
VERSION:2.0
PRODID:-//Your Town Monthly - ECPv5.4.0//NONSGML v1.0//EN
CALSCALE:GREGORIAN
METHOD:PUBLISH
X-WR-CALNAME:Your Town Monthly
X-ORIGINAL-URL:https://www.yourtownmonthly.com
X-WR-CALDESC:Events for Your Town Monthly
BEGIN:VTIMEZONE
TZID:America/Los_Angeles
BEGIN:DAYLIGHT
TZOFFSETFROM:-0800
TZOFFSETTO:-0700
TZNAME:PDT
DTSTART:20240310T100000
END:DAYLIGHT
BEGIN:STANDARD
TZOFFSETFROM:-0700
TZOFFSETTO:-0800
TZNAME:PST
DTSTART:20241103T090000
END:STANDARD
END:VTIMEZONE
BEGIN:VEVENT
DTSTART;TZID=America/Los_Angeles:20240723T140000
DTEND;TZID=America/Los_Angeles:20240723T140000
DTSTAMP:20260421T005957
CREATED:20240501T194422Z
LAST-MODIFIED:20240625T224907Z
UID:110491-1721743200-1721743200@www.yourtownmonthly.com
SUMMARY:Ed Kinney Speaker Series: “An Afternoon or Evening with... Pan Am ‘Betty’”
DESCRIPTION:The Ed Kinney Speaker Series presents “An Afternoon or Evening With… Pan Am ‘Betty’” at the Firehouse Arts Center in Pleasanton on Tuesday\, July 23\, and virtually on Tuesday\, July 30\, 2024. \nPLEASANTON – Immerse yourself in the captivating world of the golden age of air travel! Leslie Goddard\, Ph.D.\, will take you on a fascinating journey\, unveiling the true stories behind the iconic Pan Am stewardesses – the hostesses\, nurses\, cooks\, therapists and even sex symbols of their time. Explore the excitement\, glamour and challenges these pioneering women faced\, shaping the airline industry as we know it today. \nEd Kinney Speaker Series: “An Afternoon or Evening with… Pan Am ‘Betty’”\nTuesday\, July 23\, 2024 • 2 & 7pm (in-person)\nTuesday\, July 30\, 2024 (virtual)\nFirehouse Arts Center\, Pleasanton\nTickets: $15-25 \nFor tickets and more information\, visit MuseumOnMain.org.
URL:https://www.yourtownmonthly.com/event/ed-kinney-speaker-series-an-afternoon-or-evening-with-pan-am-betty/2024-07-23/
LOCATION:Firehouse Arts Center\, 4444 Railroad Avenue\, Pleasanton\, CA\, 94566\, United States
CATEGORIES:Educational,Family Friendly,Seniors,Theater
ATTACH;FMTTYPE=image/png:https://www.yourtownmonthly.com/wp-content/uploads/2024/06/Ed-Kinney-Speaker-Series-0724.png
GEO:37.6609153;-121.8736204
X-APPLE-STRUCTURED-LOCATION;VALUE=URI;X-ADDRESS=Firehouse Arts Center 4444 Railroad Avenue Pleasanton CA 94566 United States;X-APPLE-RADIUS=500;X-TITLE=4444 Railroad Avenue:geo:-121.8736204,37.6609153
END:VEVENT
END:VCALENDAR