BEGIN:VCALENDAR
VERSION:2.0
PRODID:-//Your Town Monthly - ECPv5.4.0//NONSGML v1.0//EN
CALSCALE:GREGORIAN
METHOD:PUBLISH
X-WR-CALNAME:Your Town Monthly
X-ORIGINAL-URL:https://www.yourtownmonthly.com
X-WR-CALDESC:Events for Your Town Monthly
BEGIN:VTIMEZONE
TZID:America/Los_Angeles
BEGIN:DAYLIGHT
TZOFFSETFROM:-0800
TZOFFSETTO:-0700
TZNAME:PDT
DTSTART:20250309T100000
END:DAYLIGHT
BEGIN:STANDARD
TZOFFSETFROM:-0700
TZOFFSETTO:-0800
TZNAME:PST
DTSTART:20251102T090000
END:STANDARD
END:VTIMEZONE
BEGIN:VEVENT
DTSTART;TZID=America/Los_Angeles:20250717T173000
DTEND;TZID=America/Los_Angeles:20250717T173000
DTSTAMP:20260424T081406
CREATED:20250624T005127Z
LAST-MODIFIED:20250724T200523Z
UID:116898-1752773400-1752773400@www.yourtownmonthly.com
SUMMARY:Summer Sounds at the Lesher Center
DESCRIPTION:Free outdoor concerts return to Walnut Creek with the Summer Sounds outdoor concert series at the Lesher Center for the Arts\, Thursdays\, July 17 – 31\, 2025. Photo © Facebook/Lesher Center. \nWALNUT CREEK — Put on your dancing shoes and come out to the Lesher Center for the Arts to watch a cool lineup of outdoor performances Thursday evenings this summer. \nJuly 17: Tom Rigney and Flambeau\nJuly 24: VUP\nJuly 31: Anthony Paule Soul Orchestra \nSummer Sounds at the Lesher Center\nThursdays\, July 17 — 31\, 2025\n5:30pm\nRudney Plaza at the Lesher Center\, Walnut Creek\nAdmission is FREE \nFor more information\, visit LesherArtsCenter.com.
URL:https://www.yourtownmonthly.com/event/summer-sounds-at-the-lesher-center/2025-07-17/
LOCATION:Lesher Center for the Arts\, 1601 Civic Drive\, Walnut Creek\, CA\, 94596\, United States
CATEGORIES:Arts,Business,Family Friendly,Live Music & Concerts,Outdoors,Seniors
ATTACH;FMTTYPE=image/png:https://www.yourtownmonthly.com/wp-content/uploads/2025/06/Summer-Sounds-at-the-Lesher-Center-0725-1.png
GEO:37.9009276;-122.0634936
X-APPLE-STRUCTURED-LOCATION;VALUE=URI;X-ADDRESS=Lesher Center for the Arts 1601 Civic Drive Walnut Creek CA 94596 United States;X-APPLE-RADIUS=500;X-TITLE=1601 Civic Drive:geo:-122.0634936,37.9009276
END:VEVENT
END:VCALENDAR