BEGIN:VCALENDAR
VERSION:2.0
PRODID:-//Your Town Monthly - ECPv5.4.0//NONSGML v1.0//EN
CALSCALE:GREGORIAN
METHOD:PUBLISH
X-WR-CALNAME:Your Town Monthly
X-ORIGINAL-URL:https://www.yourtownmonthly.com
X-WR-CALDESC:Events for Your Town Monthly
BEGIN:VTIMEZONE
TZID:America/Los_Angeles
BEGIN:DAYLIGHT
TZOFFSETFROM:-0800
TZOFFSETTO:-0700
TZNAME:PDT
DTSTART:20250309T100000
END:DAYLIGHT
BEGIN:STANDARD
TZOFFSETFROM:-0700
TZOFFSETTO:-0800
TZNAME:PST
DTSTART:20251102T090000
END:STANDARD
END:VTIMEZONE
BEGIN:VEVENT
DTSTART;TZID=America/Los_Angeles:20250711T183000
DTEND;TZID=America/Los_Angeles:20250711T203000
DTSTAMP:20260424T164534
CREATED:20250623T210654Z
LAST-MODIFIED:20250623T210654Z
UID:116917-1752258600-1752265800@www.yourtownmonthly.com
SUMMARY:Summer Concert Series at Livorna Park
DESCRIPTION:There’s something for all musical tastes at the Summer Concert Series at Livorna Park in Alamo on Friday evenings\, July 11 – August 1\, 2025. Photo © Jon Luini. \nALAMO — Grab your blanket\, pack some snacks\, and enjoy a summer evening of live music and good vibes. From rock to country\, there’s something for everyone. Tasty food trucks\, a lively crowd\, and a laid-back atmosphere make this the perfect way to unwind. \nJuly 11: Other People’s Money\nJuly 18: Moonalice\nJuly 25: The Sun Kings\nAugust 1: Jake Gill \nSummer Concert Series at Livorna Park\nFridays\, July 11 – August 1\, 2025\n6:30 – 8:30pm\nLivorna Park\, Alamo\nAdmission is FREE \nFor more information\, visit ContraCosta.CA.gov/10401.
URL:https://www.yourtownmonthly.com/event/summer-concert-series-at-livorna-park-2/2025-07-11/
LOCATION:Livorna Park\, Livorna Rd & Miranda Avenue\, Alamo\, CA\, 94507\, United States
CATEGORIES:Arts,Business,Family Friendly,Live Music & Concerts,Outdoors,Seniors,Teens
ATTACH;FMTTYPE=image/png:https://www.yourtownmonthly.com/wp-content/uploads/2025/06/Alamo-Summer-Concert-Series-0725-1.png
GEO:37.8679944;-122.0185738
X-APPLE-STRUCTURED-LOCATION;VALUE=URI;X-ADDRESS=Livorna Park Livorna Rd & Miranda Avenue Alamo CA 94507 United States;X-APPLE-RADIUS=500;X-TITLE=Livorna Rd & Miranda Avenue:geo:-122.0185738,37.8679944
END:VEVENT
BEGIN:VEVENT
DTSTART;TZID=America/Los_Angeles:20250711T183000
DTEND;TZID=America/Los_Angeles:20250711T183000
DTSTAMP:20260424T164534
CREATED:20250623T235312Z
LAST-MODIFIED:20250724T200419Z
UID:117002-1752258600-1752258600@www.yourtownmonthly.com
SUMMARY:Bask in the Glow of Moonlight Movies in Danville
DESCRIPTION:The Town Green in Danville hosts free outdoor movies on Fridays\, July 11 and 25\, 2025\, as well as pre-show crafts and family fun starting at 6:30pm. \nEnjoy movie-related arts and crafts and activities to kick off each movie night\, then settle in with your blankets and snacks and enjoy the features Sonic the Hedgehog 3 on July 11 and Indiana Jones & the Dial of Destiny on July 25. \nBask in the Glow of Moonlight Movies in Danville\nFridays\, July 11 and 25\, 2025\n6:30pm\nTown Green\, Danville\nAdmission is FREE \nFor more information\, visit Danville.CA.gov.
URL:https://www.yourtownmonthly.com/event/bask-in-the-glow-of-moonlight-movies-in-danville-4/2025-07-11/
LOCATION:Danville Town Green\, 400 Front St\, Danville\, CA\, 94526\, United States
CATEGORIES:Arts,Family Friendly,Film,Outdoors,Seniors,Teens
ATTACH;FMTTYPE=image/png:https://www.yourtownmonthly.com/wp-content/uploads/2025/06/moonlight-movies.png
GEO:37.8208817;-121.9959106
X-APPLE-STRUCTURED-LOCATION;VALUE=URI;X-ADDRESS=Danville Town Green 400 Front St Danville CA 94526 United States;X-APPLE-RADIUS=500;X-TITLE=400 Front St:geo:-121.9959106,37.8208817
END:VEVENT
END:VCALENDAR