BEGIN:VCALENDAR
VERSION:2.0
PRODID:-//Your Town Monthly - ECPv5.4.0//NONSGML v1.0//EN
CALSCALE:GREGORIAN
METHOD:PUBLISH
X-WR-CALNAME:Your Town Monthly
X-ORIGINAL-URL:https://www.yourtownmonthly.com
X-WR-CALDESC:Events for Your Town Monthly
BEGIN:VTIMEZONE
TZID:America/Los_Angeles
BEGIN:DAYLIGHT
TZOFFSETFROM:-0800
TZOFFSETTO:-0700
TZNAME:PDT
DTSTART:20260308T100000
END:DAYLIGHT
BEGIN:STANDARD
TZOFFSETFROM:-0700
TZOFFSETTO:-0800
TZNAME:PST
DTSTART:20261101T090000
END:STANDARD
END:VTIMEZONE
BEGIN:VEVENT
DTSTART;TZID=America/Los_Angeles:20260808T080000
DTEND;TZID=America/Los_Angeles:20260808T120000
DTSTAMP:20260422T223838
CREATED:20250220T200537Z
LAST-MODIFIED:20260422T184927Z
UID:120228-1786176000-1786190400@www.yourtownmonthly.com
SUMMARY:Downtown Vacaville Farmers Market
DESCRIPTION:The Downtown Vacaville Farmers Market is on Saturdays\, year-round at Andrews Park. \nVACAVILLE – The Vacaville Farmers Market is going year-round! Choose from a vibrant selection of locally-grown produce\, unique handmade crafts\, and live music\, creating a lively and festive atmosphere–now every weekend. \n\n\n\n\n\n\n\n\nDowntown Vacaville Farmers Market\nSaturdays\n9am – 1pm\nAdmission is FREE\nAndrews Park\n614 E Monte Vista Ave\, Vacaville \nFor more information\, visit DowntownVacaville.com.
URL:https://www.yourtownmonthly.com/event/downtown-vacaville-farmers-market/2026-08-08/
LOCATION:Andrews Park\, 614 E Monte Vista Ave.\, Vacaville\, CA\, 95688\, United States
CATEGORIES:Arts,Benefit,Business,Comedy,Educational,Family Friendly,Health & Fitness,Outdoors,Seniors,Teens
ATTACH;FMTTYPE=image/png:https://www.yourtownmonthly.com/wp-content/uploads/2025/02/farmers-market-vacaville-.png
GEO:38.3589137;-121.9859267
X-APPLE-STRUCTURED-LOCATION;VALUE=URI;X-ADDRESS=Andrews Park 614 E Monte Vista Ave. Vacaville CA 95688 United States;X-APPLE-RADIUS=500;X-TITLE=614 E Monte Vista Ave.:geo:-121.9859267,38.3589137
END:VEVENT
END:VCALENDAR