BEGIN:VCALENDAR
VERSION:2.0
PRODID:-//Your Town Monthly - ECPv5.4.0//NONSGML v1.0//EN
CALSCALE:GREGORIAN
METHOD:PUBLISH
X-WR-CALNAME:Your Town Monthly
X-ORIGINAL-URL:https://www.yourtownmonthly.com
X-WR-CALDESC:Events for Your Town Monthly
BEGIN:VTIMEZONE
TZID:America/Los_Angeles
BEGIN:DAYLIGHT
TZOFFSETFROM:-0800
TZOFFSETTO:-0700
TZNAME:PDT
DTSTART:20260308T100000
END:DAYLIGHT
BEGIN:STANDARD
TZOFFSETFROM:-0700
TZOFFSETTO:-0800
TZNAME:PST
DTSTART:20261101T090000
END:STANDARD
END:VTIMEZONE
BEGIN:VEVENT
DTSTART;TZID=America/Los_Angeles:20260507T150000
DTEND;TZID=America/Los_Angeles:20260507T190000
DTSTAMP:20260424T085815
CREATED:20260320T082633Z
LAST-MODIFIED:20260320T175624Z
UID:109730-1778166000-1778180400@www.yourtownmonthly.com
SUMMARY:Fairfield Farmers Market
DESCRIPTION:The Fairfield Farmers Market opens in May\, and takes place every Thursday\, in Downtown Fairfield\, through September 24\, 2026. \nFAIRFIELD – Since 1990\, the Fairfield Farmers Market has been a cherished tradition\, bringing together local farmers\, artisans\, and the community in a vibrant celebration of fresh produce and creativity. This year\, the market returns for its 2026 season\, running every Thursday evening from 3 PM to 7 PM through September. The event takes place at the County Green\, located at the corner of Texas and Jefferson Streets in Downtown Fairfield. \n\n\nVisitors can expect an array of locally grown fruits and vegetables\, delicious artisan foods\, and handcrafted goods from talented vendors. \n\n\nFairfield Farmers Market\nOpening in May • Every Thursday through September 24\, 2026\n3 – 7pm\nAdmission is FREE\nCounty Green\nCorner of Texas & Jefferson Sts\, Fairfield \nFor more information\, visit Fairfield.CA.gov.
URL:https://www.yourtownmonthly.com/event/fairfield-farmers-market-4/2026-05-07/
LOCATION:Downtown Fairfield\, CA\, United States
CATEGORIES:Arts,Benefit,Business,Comedy,Dance,Educational,Family Friendly,Health & Fitness,Outdoors,Seniors,Sports,Teens
ATTACH;FMTTYPE=image/png:https://www.yourtownmonthly.com/wp-content/uploads/2025/04/fairfield-farmers-market-2.png
GEO:38.2492249;-122.041901
END:VEVENT
BEGIN:VEVENT
DTSTART;TZID=America/Los_Angeles:20260507T170000
DTEND;TZID=America/Los_Angeles:20260507T200000
DTSTAMP:20260424T085815
CREATED:20250422T171111Z
LAST-MODIFIED:20260422T175006Z
UID:102139-1778173200-1778184000@www.yourtownmonthly.com
SUMMARY:Town Square Thursdays in Vacaville
DESCRIPTION:Town Square Thursdays in Vacaville are weekly\, from 5 – 8pm at Town Square in Downtown Vacaville. \nVACAVILLE – Live music returns to Town Square with a different band each Thursday! With performances in every genre\, from country and rock to blues and pop\, there will be something for everyone to groove to with this annual series. As you listen to some of your favorite tunes\, stop in at one of the several fabulous businesses sponsoring the event. Bring your friends and a chair and get ready to enjoy an evening downtown in Town Square! \n\n\n\n\n\nTown Square Thursdays in Vacaville\nThursdays\,May 7–28•5–8pm\n5 – 8pm\nAdmission is FREE\nTown Square\, Downtown Vacaville \n\n\n\nFor more information\, visit DowntownVacaville.com.
URL:https://www.yourtownmonthly.com/event/town-square-thursdays-vacaville/2026-05-07/
LOCATION:Town Square – Downtown Vacaville\, 11 Town Square Place\, Vacaville\, CA\, 95688\, United States
CATEGORIES:Arts,Benefit,Business,Comedy,Dance,Educational,Family Friendly,Live Music & Concerts,Outdoors,Seniors,Teens,Wine & Brew
ATTACH;FMTTYPE=image/png:https://www.yourtownmonthly.com/wp-content/uploads/2024/03/town-square-thursdays-vacaville.png
GEO:38.3569315;-121.9874209
X-APPLE-STRUCTURED-LOCATION;VALUE=URI;X-ADDRESS=Town Square – Downtown Vacaville 11 Town Square Place Vacaville CA 95688 United States;X-APPLE-RADIUS=500;X-TITLE=11 Town Square Place:geo:-121.9874209,38.3569315
END:VEVENT
END:VCALENDAR