BEGIN:VCALENDAR
VERSION:2.0
PRODID:-//Your Town Monthly - ECPv5.4.0//NONSGML v1.0//EN
CALSCALE:GREGORIAN
METHOD:PUBLISH
X-WR-CALNAME:Your Town Monthly
X-ORIGINAL-URL:https://www.yourtownmonthly.com
X-WR-CALDESC:Events for Your Town Monthly
BEGIN:VTIMEZONE
TZID:America/Los_Angeles
BEGIN:DAYLIGHT
TZOFFSETFROM:-0800
TZOFFSETTO:-0700
TZNAME:PDT
DTSTART:20260308T100000
END:DAYLIGHT
BEGIN:STANDARD
TZOFFSETFROM:-0700
TZOFFSETTO:-0800
TZNAME:PST
DTSTART:20261101T090000
END:STANDARD
END:VTIMEZONE
BEGIN:VEVENT
DTSTART;VALUE=DATE:20260425
DTEND;VALUE=DATE:20260426
DTSTAMP:20260423T154035
CREATED:20260319T181028Z
LAST-MODIFIED:20260320T231927Z
UID:109234-1777075200-1777161599@www.yourtownmonthly.com
SUMMARY:Winters Youth Day
DESCRIPTION:Winters Youth Day is on Saturday\, April 25\, 2026\, with many festivities happening at Rotary Park. \nWINTERS – Every spring\, the city of Winters comes alive with this celebration of youth that has been bringing the community together for nearly 90 years! What began as the vision of Reverend Charles P. Barkman and high school principal Dr. A.M. Herron\, who wanted to teach local youth about the workings of city government\, blossomed into a unique tradition: each year\, the young people of Winters step into the roles of elected city officials\, spending a week shadowing and learning from their real‐world counterparts. \n\n\n\n\nThis hands‐on experience culminates in a day of celebration\, recognition\, and community connection\, featuring a parade and a whole lot of fun. Colorful displays\, music\, and cheering crowds create a vibrant atmosphere. After the parade\, the celebration continues with a lively vendor fair. Local artisans\, community groups\, and small businesses set up booths offering a variety of local goods\, treats\, and activities for kids and families. \n\n\n\n\nWinters Youth Day\nSaturday\, April 25\, 2026\nAdmission is FREE\nRotary Park\n201 E. Main Street\, Winters \nFor more information\, visit WintersYouthDay.com.
URL:https://www.yourtownmonthly.com/event/winters-youth-day-3/
LOCATION:Winters City Park\, 411 Abbey St.\, Winters\, CA\, 95694
CATEGORIES:Arts,Benefit,Business,Comedy,Dance,Educational,Family Friendly,Health & Fitness,Live Music & Concerts,Outdoors,Sports,Teens,Theater
ATTACH;FMTTYPE=image/png:https://www.yourtownmonthly.com/wp-content/uploads/2026/03/winters-youth-day.png
GEO:38.5202873;-121.9765947
X-APPLE-STRUCTURED-LOCATION;VALUE=URI;X-ADDRESS=Winters City Park 411 Abbey St. Winters CA 95694;X-APPLE-RADIUS=500;X-TITLE=411 Abbey St.:geo:-121.9765947,38.5202873
END:VEVENT
BEGIN:VEVENT
DTSTART;TZID=America/Los_Angeles:20260425T080000
DTEND;TZID=America/Los_Angeles:20260425T120000
DTSTAMP:20260423T154035
CREATED:20250220T200537Z
LAST-MODIFIED:20260422T184855Z
UID:120213-1777104000-1777118400@www.yourtownmonthly.com
SUMMARY:Downtown Vacaville Farmers Market
DESCRIPTION:The Downtown Vacaville Farmers Market is on Saturdays\, year-round at Andrews Park. \nVACAVILLE – The Vacaville Farmers Market is going year-round! Choose from a vibrant selection of locally-grown produce\, unique handmade crafts\, and live music\, creating a lively and festive atmosphere–now every weekend. \n\n\n\n\n\n\n\n\nDowntown Vacaville Farmers Market\nSaturdays\n9am – 1pm\nAdmission is FREE\nAndrews Park\n614 E Monte Vista Ave\, Vacaville \nFor more information\, visit DowntownVacaville.com.
URL:https://www.yourtownmonthly.com/event/downtown-vacaville-farmers-market/2026-04-25/
LOCATION:Andrews Park\, 614 E Monte Vista Ave.\, Vacaville\, CA\, 95688\, United States
CATEGORIES:Arts,Benefit,Business,Comedy,Educational,Family Friendly,Health & Fitness,Outdoors,Seniors,Teens
ATTACH;FMTTYPE=image/png:https://www.yourtownmonthly.com/wp-content/uploads/2025/02/farmers-market-vacaville-.png
GEO:38.3589137;-121.9859267
X-APPLE-STRUCTURED-LOCATION;VALUE=URI;X-ADDRESS=Andrews Park 614 E Monte Vista Ave. Vacaville CA 95688 United States;X-APPLE-RADIUS=500;X-TITLE=614 E Monte Vista Ave.:geo:-121.9859267,38.3589137
END:VEVENT
END:VCALENDAR