BEGIN:VCALENDAR
VERSION:2.0
PRODID:-//Your Town Monthly - ECPv5.4.0//NONSGML v1.0//EN
CALSCALE:GREGORIAN
METHOD:PUBLISH
X-WR-CALNAME:Your Town Monthly
X-ORIGINAL-URL:https://www.yourtownmonthly.com
X-WR-CALDESC:Events for Your Town Monthly
BEGIN:VTIMEZONE
TZID:America/Los_Angeles
BEGIN:DAYLIGHT
TZOFFSETFROM:-0800
TZOFFSETTO:-0700
TZNAME:PDT
DTSTART:20200308T100000
END:DAYLIGHT
BEGIN:STANDARD
TZOFFSETFROM:-0700
TZOFFSETTO:-0800
TZNAME:PST
DTSTART:20201101T090000
END:STANDARD
BEGIN:DAYLIGHT
TZOFFSETFROM:-0800
TZOFFSETTO:-0700
TZNAME:PDT
DTSTART:20210314T100000
END:DAYLIGHT
BEGIN:STANDARD
TZOFFSETFROM:-0700
TZOFFSETTO:-0800
TZNAME:PST
DTSTART:20211107T090000
END:STANDARD
END:VTIMEZONE
BEGIN:VEVENT
DTSTART;VALUE=DATE:20201218
DTEND;VALUE=DATE:20220101
DTSTAMP:20260421T000922
CREATED:20201231T171355Z
LAST-MODIFIED:20221222T212514Z
UID:81673-1608249600-1640995199@www.yourtownmonthly.com
SUMMARY:San Ramon StoryWalk® in Central Park
DESCRIPTION:Contra Costa County Library presents StoryWalk®\, an interactive reading activity\, in San Ramon’s Central Park. \nSAN RAMON – Bookworms and nature lovers rejoice – San Ramon Central Park’s StoryWalk® interactive reading activity is now a permanent feature! Stroll along the park’s pathway and stop at each of the 20 stations to enjoy a great book while spending time outdoors. A new\, well-reviewed and engaging book will be displayed four times a year. Titles are always centered around concepts such as nature\, parks\, physical activity\, literacy\, kindness\, diversity\, family or humor.  \nSan Ramon StoryWalk® in Central Park\nSan Ramon Central Park \nFor more information\, visit CCCLib.org.
URL:https://www.yourtownmonthly.com/event/san-ramon-storywalk-in-central-park/
LOCATION:San Ramon Central Park\, 12501 Alcosta Blvd.\, San Ramon\, CA\, 94583\, United States
CATEGORIES:Arts,Educational,Family Friendly,Health & Fitness,Library,Outdoors,Seniors,Teens,Theater
ATTACH;FMTTYPE=image/png:https://www.yourtownmonthly.com/wp-content/uploads/2020/12/Storywalk.png
GEO:37.7664503;-121.9538023
X-APPLE-STRUCTURED-LOCATION;VALUE=URI;X-ADDRESS=San Ramon Central Park 12501 Alcosta Blvd. San Ramon CA 94583 United States;X-APPLE-RADIUS=500;X-TITLE=12501 Alcosta Blvd.:geo:-121.9538023,37.7664503
END:VEVENT
BEGIN:VEVENT
DTSTART;TZID=America/Los_Angeles:20210109T100000
DTEND;TZID=America/Los_Angeles:20210109T100000
DTSTAMP:20260421T000922
CREATED:20201231T224106Z
LAST-MODIFIED:20201231T224106Z
UID:81786-1610186400-1610186400@www.yourtownmonthly.com
SUMMARY:Backstage Tours at the Lesher Center for the Arts
DESCRIPTION:Go behind-the-scenes of the Lesher Center for the Arts on these special Backstage Tours Saturdays\, January 9 and 23\, 2021 at 10am in Walnut Creek. Photo via Lesher Center. \nWALNUT CREEK – If you’ve ever wondered what goes on behind the curtain of a top-notch theater like the Lesher Center for the Arts\, you’re in luck! \nThis Backstage Tour experience features an exclusive peek backstage at all three Lesher Center theaters\, the Green Room and many other nooks and crannies. You’ll also learn about the current Plaza Expansion Project and discover the Lesher Center’s rich history. \nThe tour begins promptly at 10am in the first-floor lobby. Face coverings are required to be worn by all guests over the age of 2. \nBackstage Tours at the Lesher Center for the Arts\nSaturdays\, January 9 & 23\, 2021\n10am\nLesher Center for the Arts\n1601 Civic Drive\, Walnut Creek\nTickets: $10 \nFor tickets and more information\, call 925.943.7469 or visit LesherArtsCenter.org.
URL:https://www.yourtownmonthly.com/event/backstage-tours-at-the-lesher-center-for-the-arts-2/2021-01-09/
LOCATION:Lesher Center for the Arts\, 1601 Civic Drive\, Walnut Creek\, CA\, 94596\, United States
CATEGORIES:Arts,Educational,Family Friendly
ATTACH;FMTTYPE=image/png:https://www.yourtownmonthly.com/wp-content/uploads/2020/12/Lesher-Center-Backstage-Tours.png
GEO:37.9009276;-122.0634936
X-APPLE-STRUCTURED-LOCATION;VALUE=URI;X-ADDRESS=Lesher Center for the Arts 1601 Civic Drive Walnut Creek CA 94596 United States;X-APPLE-RADIUS=500;X-TITLE=1601 Civic Drive:geo:-122.0634936,37.9009276
END:VEVENT
END:VCALENDAR