BEGIN:VCALENDAR
VERSION:2.0
PRODID:-//Your Town Monthly - ECPv5.4.0//NONSGML v1.0//EN
CALSCALE:GREGORIAN
METHOD:PUBLISH
X-WR-CALNAME:Your Town Monthly
X-ORIGINAL-URL:https://www.yourtownmonthly.com
X-WR-CALDESC:Events for Your Town Monthly
BEGIN:VTIMEZONE
TZID:America/Los_Angeles
BEGIN:DAYLIGHT
TZOFFSETFROM:-0800
TZOFFSETTO:-0700
TZNAME:PDT
DTSTART:20190310T100000
END:DAYLIGHT
BEGIN:STANDARD
TZOFFSETFROM:-0700
TZOFFSETTO:-0800
TZNAME:PST
DTSTART:20191103T090000
END:STANDARD
END:VTIMEZONE
BEGIN:VEVENT
DTSTART;VALUE=DATE:20190817
DTEND;VALUE=DATE:20190819
DTSTAMP:20260423T085518
CREATED:20190726T162442Z
LAST-MODIFIED:20190916T162204Z
UID:61216-1566000000-1566172799@www.yourtownmonthly.com
SUMMARY:The Tomato & Vine Festival in Downtown Fairfield
DESCRIPTION:The Tomato Festival is in downtown Fairfield on Saturday and Sunday\, August 17 – 18\, 2019\, from 11am – 7pm on Saturday\, and 12pm – 5pm on Sunday. \nFAIRFIELD – Food festivals are a summertime tradition and for tomato fans\, downtown Fairfield becomes the destination every August for all things “tomayto” and “tomahto.” \nPhoto courtesy Fairfield Main Street Association. \nThis year marks the 28th Annual Tomato & Vine Festival\, a yearly celebration that draws some 25\,000 visitors to Fairfield’s historic district over one summer weekend. Produced by the Fairfield Main Street Association\, the tomato celebration features more than 100 vendors offering delicious foods\, agricultural displays\, crafts and artisan creations. \nPhoto courtesy Fairfield Main Street Association. \nFor the second consecutive year\, the tomato fest will also include “vines” in the festivities. Food vendors will feature a wide variety of tomato and vine-related items such as fried green tomatoes\, tomato jam and a list of expanded wine options. \nPhoto courtesy Fairfield Main Street Association. \nThe tasting tent at Jackson and Texas Street will offer free tomato samples as well as heirloom tomatoes and other fresh local produce for purchase. Meanwhile\, the VIP Wine\, Food\, and Brew experience hosted by the Fairfield Suisun Chamber of Commerce will take place Saturday\, August 17\, at the Solano County Events Center. \nPhoto courtesy Fairfield Main Street Association. \nThe 27th Annual Tomato & Vine Festival \nSaturday & Sunday\, August 17 & 18\, 2019\nSaturday: 11am – 7pm\nSunday: 12 – 5pm\nDowntown Fairfield\nAdmission is FREE \nFor more information\, visit FairfieldMainStreet.com.
URL:https://www.yourtownmonthly.com/event/the-tomato-vine-festival-in-downtown-fairfield/
LOCATION:Downtown Fairfield\, CA\, United States
CATEGORIES:Arts,Comedy,Dance,Educational,Family Friendly,Live Music & Concerts,Outdoors,Seniors,Teens,Wine & Brew
ATTACH;FMTTYPE=image/png:https://www.yourtownmonthly.com/wp-content/uploads/2019/07/tomato-vine-festival-fairfield.png
GEO:38.2492249;-122.041901
END:VEVENT
BEGIN:VEVENT
DTSTART;TZID=America/Los_Angeles:20190817T140000
DTEND;TZID=America/Los_Angeles:20190817T140000
DTSTAMP:20260423T085518
CREATED:20190731T171146Z
LAST-MODIFIED:20190731T171146Z
UID:60945-1566050400-1566050400@www.yourtownmonthly.com
SUMMARY:The Golden Follies: “Trip the Light Fantastic!”
DESCRIPTION:The Golden Follies presents “Trip the Light Fantastic!” at the Firehouse Arts Center in Pleasanton on Saturday & Sunday\, August 17 & 18\, 2019 at 2pm. Photo via Flickr. \nPLEASANTON – Chanteuse Wiggy Darlington\, the alter ego of Bay Area singer Darla Wigginton\, will join the Golden Follies on a trip through the decades\, from the 1940s to the 2000s\, and on to Broadway classics. This group of talented performers\, ages 60-89\, will don extravagant costumes and amaze you with fast-tapping rhythms\, dazzling choreography and enough glitz and glamour to fill the Firehouse stage! \nThe Golden Follies: “Trip the Light Fantastic!”\nSaturday & Sunday\, August 17 & 18\, 2019\n2pm\nFirehouse Arts Center\, Pleasanton\nTickets: $16-26 \nFor tickets and more information\, call 925.931.4848 or visit FirehouseArts.org.
URL:https://www.yourtownmonthly.com/event/the-golden-follies-trip-the-light-fantastic/2019-08-17/
LOCATION:Firehouse Arts Center\, 4444 Railroad Avenue\, Pleasanton\, CA\, 94566\, United States
CATEGORIES:Arts,Dance,Educational,Family Friendly,Live Music & Concerts,Seniors,Theater
ATTACH;FMTTYPE=image/png:https://www.yourtownmonthly.com/wp-content/uploads/2019/07/PD-Golden-Follies-Trip-the-Light-Fantastic-WEB.png
GEO:37.6609153;-121.8736204
X-APPLE-STRUCTURED-LOCATION;VALUE=URI;X-ADDRESS=Firehouse Arts Center 4444 Railroad Avenue Pleasanton CA 94566 United States;X-APPLE-RADIUS=500;X-TITLE=4444 Railroad Avenue:geo:-121.8736204,37.6609153
END:VEVENT
END:VCALENDAR