BEGIN:VCALENDAR
VERSION:2.0
PRODID:-//Your Town Monthly - ECPv5.4.0//NONSGML v1.0//EN
CALSCALE:GREGORIAN
METHOD:PUBLISH
X-WR-CALNAME:Your Town Monthly
X-ORIGINAL-URL:https://www.yourtownmonthly.com
X-WR-CALDESC:Events for Your Town Monthly
BEGIN:VTIMEZONE
TZID:America/Los_Angeles
BEGIN:DAYLIGHT
TZOFFSETFROM:-0800
TZOFFSETTO:-0700
TZNAME:PDT
DTSTART:20190310T100000
END:DAYLIGHT
BEGIN:STANDARD
TZOFFSETFROM:-0700
TZOFFSETTO:-0800
TZNAME:PST
DTSTART:20191103T090000
END:STANDARD
END:VTIMEZONE
BEGIN:VEVENT
DTSTART;TZID=America/Los_Angeles:20190802T200000
DTEND;TZID=America/Los_Angeles:20190802T200000
DTSTAMP:20260424T054302
CREATED:20190723T220943Z
LAST-MODIFIED:20190730T164238Z
UID:60979-1564776000-1564776000@www.yourtownmonthly.com
SUMMARY:Winters Theater Company: "As You Like It"
DESCRIPTION:The Winters Theatre Company presents “As You Like It” live at the Winters Theatre Amphiteatre on Fridays and Saturdays\, August 2\, 3\, 9 & 10\, 2019\, at 8pm. Photo: Winters Theatre Company/Facebook \nWINTERS – Experience an evening under the stars when the WTC presents its annual “Shakespeare Under the Stars” production of “As You Like It.” Refreshments will be available\, and guests are encouraged to make a picnic of it and enjoy the magic of Shakespeare! \nWinters Theater Company: “As You Like It”\nFridays & Saturdays\, August 2 – 10\, 2019\n8pm\nWinters Community Center Amphitheater\nTickets: $5 (children 12 and under are FREE when accompanied by an adult) \nFor more information\, visit WintersTheatre.org.
URL:https://www.yourtownmonthly.com/event/winters-theater-company-as-you-like-it/2019-08-02/
LOCATION:Winters Community Center Amphitheater\, 201 Railroad Ave.\, Winters\, CA\, United States
CATEGORIES:Arts,Comedy,Educational,Family Friendly,Outdoors,Seniors,Teens,Theater
ATTACH;FMTTYPE=image/png:https://www.yourtownmonthly.com/wp-content/uploads/2019/07/winters-theatre-as-you-like-it-play.png
GEO:38.5211339;-121.9681513
X-APPLE-STRUCTURED-LOCATION;VALUE=URI;X-ADDRESS=Winters Community Center Amphitheater 201 Railroad Ave. Winters CA United States;X-APPLE-RADIUS=500;X-TITLE=201 Railroad Ave.:geo:-121.9681513,38.5211339
END:VEVENT
END:VCALENDAR