BEGIN:VCALENDAR
VERSION:2.0
PRODID:-//Your Town Monthly - ECPv5.4.0//NONSGML v1.0//EN
CALSCALE:GREGORIAN
METHOD:PUBLISH
X-WR-CALNAME:Your Town Monthly
X-ORIGINAL-URL:https://www.yourtownmonthly.com
X-WR-CALDESC:Events for Your Town Monthly
BEGIN:VTIMEZONE
TZID:America/Los_Angeles
BEGIN:DAYLIGHT
TZOFFSETFROM:-0800
TZOFFSETTO:-0700
TZNAME:PDT
DTSTART:20200308T100000
END:DAYLIGHT
BEGIN:STANDARD
TZOFFSETFROM:-0700
TZOFFSETTO:-0800
TZNAME:PST
DTSTART:20201101T090000
END:STANDARD
END:VTIMEZONE
BEGIN:VEVENT
DTSTART;TZID=America/Los_Angeles:20200714T103000
DTEND;TZID=America/Los_Angeles:20200714T103000
DTSTAMP:20260424T035125
CREATED:20200713T172009Z
LAST-MODIFIED:20200714T154940Z
UID:76081-1594722600-1594722600@www.yourtownmonthly.com
SUMMARY:Online Storytime with the Contra Costa County Library
DESCRIPTION:The Contra Costa County Library presents Online Storytime every Tuesday & Thursday at 10am\, now through August 27\, 2020 on the Library’s Facebook page. \nONLINE – Watch as the Contra Costa County Library’s favorite storytellers paint a picture with words during these free online storytime sessions. Presented on the Library’s Facebook page\, these 10-minute videos are a special treat for kids of all ages. Storytellers will entertain by reading books and singing songs. Be sure to check out the Library’s other Facebook videos featuring art demonstrations\, magic shows\, author lectures and even ukulele lessons! \nOnline Storytime with the Contra Costa County Library\nEvery Tuesday & Thursday\nNow Through August 27\, 2020\n10am \nTo watch videos or for more information visit Facebook.com/CCCLib/videos.
URL:https://www.yourtownmonthly.com/event/online-storytime-with-the-contra-costa-county-library/2020-07-14/
LOCATION:CA\, United States
CATEGORIES:Arts,Educational,Family Friendly,Library,Seniors,Theater
ATTACH;FMTTYPE=image/png:https://www.yourtownmonthly.com/wp-content/uploads/2020/06/Online-Storytime.png
END:VEVENT
END:VCALENDAR