BEGIN:VCALENDAR
VERSION:2.0
PRODID:-//Your Town Monthly - ECPv5.4.0//NONSGML v1.0//EN
CALSCALE:GREGORIAN
METHOD:PUBLISH
X-WR-CALNAME:Your Town Monthly
X-ORIGINAL-URL:https://www.yourtownmonthly.com
X-WR-CALDESC:Events for Your Town Monthly
BEGIN:VTIMEZONE
TZID:America/Los_Angeles
BEGIN:DAYLIGHT
TZOFFSETFROM:-0800
TZOFFSETTO:-0700
TZNAME:PDT
DTSTART:20260308T100000
END:DAYLIGHT
BEGIN:STANDARD
TZOFFSETFROM:-0700
TZOFFSETTO:-0800
TZNAME:PST
DTSTART:20261101T090000
END:STANDARD
END:VTIMEZONE
BEGIN:VEVENT
DTSTART;VALUE=DATE:20260524
DTEND;VALUE=DATE:20260526
DTSTAMP:20260425T111322
CREATED:20260424T211111Z
LAST-MODIFIED:20260424T211111Z
UID:120342-1779580800-1779753599@www.yourtownmonthly.com
SUMMARY:San Ramon Art & Wind Festival
DESCRIPTION:The San Ramon Art & Wind Festival brings two days of fun to Central Park in San Ramon Sunday & Monday\, May 24 & 25\, 2026\, with kites and food. \nSAN RAMON — Color fills the sky as the San Ramon Art & Wind Festival returns to Central Park this Memorial Day weekend. With kites\, live entertainment\, and family-friendly activities\, it’s one of the East Bay’s most anticipated spring traditions. \n  \nThe San Ramon Art & Wind Festival brings two days of fun to Central Park in San Ramon Sunday & Monday\, May 24 & 25\, 2026\, with kites and food. \nCentral Park comes alive over Memorial Day weekend as the San Ramon Art & Wind Festival fills the grounds with art\, entertainment\, and high-flying spectacle. Watch professional choreographed kite-flying demonstrations\, enjoy performances across three live entertainment stages\, and catch family-friendly attractions like a puppet show and even a helicopter landing. Colorful kites drifting overhead will create a constantly changing backdrop throughout the day. \nPhoto courtesy of City of San Ramon. \nStroll through fine arts and crafts vendors\, explore two festival food courts\, and take advantage of hands-on experiences like the free kite-making workshop. Family amusement zones\, a dedicated Sensory Zone\, and a bike- and pet-friendly atmosphere make it easy to experience the festival at any pace. \n  \n  \nSan Ramon Art & Wind Festival\nSunday & Monday\, May 24 & 25\, 2026\n11am — 6pm\nCentral Park\, San Ramon\nAdmission is FREE \nFor more information\, visit ArtandWind.com.
URL:https://www.yourtownmonthly.com/event/san-ramon-art-wind-festival-2026/
LOCATION:San Ramon Central Park\, 12501 Alcosta Blvd.\, San Ramon\, CA\, 94583\, United States
CATEGORIES:Arts,Business,Dance,Educational,Family Friendly,Holiday,Live Music & Concerts,Outdoors,Seniors,Teens
ATTACH;FMTTYPE=image/png:https://www.yourtownmonthly.com/wp-content/uploads/2026/04/Art-Wind-Festival-0526.png
GEO:37.7664503;-121.9538023
X-APPLE-STRUCTURED-LOCATION;VALUE=URI;X-ADDRESS=San Ramon Central Park 12501 Alcosta Blvd. San Ramon CA 94583 United States;X-APPLE-RADIUS=500;X-TITLE=12501 Alcosta Blvd.:geo:-121.9538023,37.7664503
END:VEVENT
END:VCALENDAR